Workbook
Name discount_rate: '3. Inputs'!$F$22
Name IQ_CH: 110000
Name IQ_CQ: 5000
Name IQ_CY: 10000
Name IQ_DAILY: 500000
Name IQ_FH: 100000
Name IQ_FQ: 500
Name IQ_FY: 1000
Name IQ_LTM: 2000
Name IQ_MONTH: 15000
Name IQ_NTM: 6000
Name IQ_WEEK: 50000
Name IQ_YTD: 3000
Name model_date: '3. Inputs'!$F$10
Name share_price: '3. Inputs'!$F$24
Name terminal_growth_rate: '3. Inputs'!$F$23
Name timelines: '3. Inputs'!$G$11:$L$12

Sheet Cover

Sheet 1. Summary
B2: CICBV Best Practices in Financial Modelling
B3: Apple Inc. Financial Model
B4: =model_date -> October 31, 2022 | H4: ='3. Inputs'!H4 -> Forecast | I4: ='3. Inputs'!I4 -> Forecast | J4: ='3. Inputs'!J4 -> Forecast | K4: ='3. Inputs'!K4 -> Forecast | L4: ='3. Inputs'!L4 -> Forecast
B5: (In millions, except per share amounts) | H5: ='3. Inputs'!H5 -> 2023 | I5: ='3. Inputs'!I5 -> 2024 | J5: ='3. Inputs'!J5 -> 2025 | K5: ='3. Inputs'!K5 -> 2026 | L5: ='3. Inputs'!L5 -> 2027 | M5: Terminal Value
B8: Summary of Key Inputs
C9: Discount rate | F9: =discount_rate -> 0.1
C10: Terminal growth rate | F10: =terminal_growth_rate -> 0.035
B12: Discounted Cash Flow
C13: EBITDA | H13: ='2. Financial Stmts'!H53 -> 140324.44 | I13: ='2. Financial Stmts'!I53 -> 152164.34 | J13: ='2. Financial Stmts'!J53 -> 179775.29 | K13: ='2. Financial Stmts'!K53 -> 191314.85 | L13: ='2. Financial Stmts'!L53 -> 201519.64
C14: Less: change in working capital | H14: =SUM('2. Financial Stmts'!H85:H89) -> -3252.2529 | I14: =SUM('2. Financial Stmts'!I85:I89) -> -3183.1205 | J14: =SUM('2. Financial Stmts'!J85:J89) -> -13738.438 | K14: =SUM('2. Financial Stmts'!K85:K89) -> -2947.4087 | L14: =SUM('2. Financial Stmts'!L85:L89) -> -2377.0089
C15: Less: capex | H15: ='2. Financial Stmts'!H93 -> -12000 | I15: ='2. Financial Stmts'!I93 -> -12000 | J15: ='2. Financial Stmts'!J93 -> -12000 | K15: ='2. Financial Stmts'!K93 -> -12000 | L15: ='2. Financial Stmts'!L93 -> -12000
C16: Less: taxes | H16: =-('2. Financial Stmts'!H53-'2. Financial Stmts'!H49)*'3. Inputs'!H46 -> -21179.399 | I16: =-('2. Financial Stmts'!I53-'2. Financial Stmts'!I49)*'3. Inputs'!I46 -> -23020.969 | J16: =-('2. Financial Stmts'!J53-'2. Financial Stmts'!J49)*'3. Inputs'!J46 -> -27433.556 | K16: =-('2. Financial Stmts'!K53-'2. Financial Stmts'!K49)*'3. Inputs'!K46 -> -29254.185 | L16: =-('2. Financial Stmts'!L53-'2. Financial Stmts'!L49)*'3. Inputs'!L46 -> -30868.38
C17: Free Cash Flow | H17: =SUM(H13:H16) -> 103892.78 | I17: =SUM(I13:I16) -> 113960.25 | J17: =SUM(J13:J16) -> 126603.29 | K17: =SUM(K13:K16) -> 147113.26 | L17: =SUM(L13:L16) -> 156274.25
C18: Terminal Value | M18: =L17*(1+terminal_growth_rate)/(discount_rate-terminal_growth_rate) -> 2488366.9
C19: Discount Period | H19: ='3. Inputs'!H16 -> 0.5 | I19: ='3. Inputs'!I16 -> 1.5 | J19: ='3. Inputs'!J16 -> 2.5 | K19: ='3. Inputs'!K16 -> 3.5 | L19: ='3. Inputs'!L16 -> 4.5 | M19: =L19 -> 4.5
C20: PV Factor | H20: =1/(1+discount_rate)^H19 -> 0.95346259 | I20: =1/(1+discount_rate)^I19 -> 0.86678417 | J20: =1/(1+discount_rate)^J19 -> 0.78798561 | K20: =1/(1+discount_rate)^K19 -> 0.71635056 | L20: =1/(1+discount_rate)^L19 -> 0.65122778 | M20: =1/(1+discount_rate)^M19 -> 0.65122778
C21: Discounted cash flow | H21: =H17*H20 -> 99057.882 | I21: =I17*I20 -> 98778.944 | J21: =J17*J20 -> 99761.574 | K21: =K17*K20 -> 105384.66 | L21: =L17*L20 -> 101770.13 | M21: =M18*M20 -> 1620493.6
C22: Net present value (Enterprise value) | G22: =SUM(H21:M21) -> 2125246.8
B24: Valuation Summary
C25: Enterprise value | G25: =G22 -> 2125246.8
C26: Add: excess cash | G26: =MAX('2. Financial Stmts'!G60-'3. Inputs'!F25,0) -> 3646
C27: Add: marketable securities | G27: ='2. Financial Stmts'!G63 -> 145463
C28: Less: debt | G28: =-'2. Financial Stmts'!G71 -> -110087
C29: Equity value | G29: =SUM(G25:G28) -> 2164268.8
C30: Divide by: Shares outstanding | G30: ='2. Financial Stmts'!G44 -> 16215.963
C31: Equity value / share | G31: =G29/G30 -> 133.46533
C32: Current share price | G32: =share_price -> 138.38
C33: Implied share price premium / (discount) | G33: =(G32-G31)/G31 -> 0.036823589
C35: Implied FY27 EV/Revenue terminal multiple | G35: =M18/'2. Financial Stmts'!L13 -> 4.1508752
C36: Implied FY27 EV/EBITDA terminal multiple | G36: =M18/L13 -> 12.348012

Sheet 2. Financial Stmts
B2: CICBV Best Practices in Financial Modelling
B3: Apple Inc. Financial Model
B4: =model_date -> October 31, 2022 | G4: ='3. Inputs'!G4 -> Actual | H4: ='3. Inputs'!H4 -> Forecast | I4: ='3. Inputs'!I4 -> Forecast | J4: ='3. Inputs'!J4 -> Forecast | K4: ='3. Inputs'!K4 -> Forecast | L4: ='3. Inputs'!L4 -> Forecast
B5: (In millions, except per share amounts) | G5: ='3. Inputs'!G5 -> 2022 | H5: ='3. Inputs'!H5 -> 2023 | I5: ='3. Inputs'!I5 -> 2024 | J5: ='3. Inputs'!J5 -> 2025 | K5: ='3. Inputs'!K5 -> 2026 | L5: ='3. Inputs'!L5 -> 2027
B8: 1. Income Statement
C10: Net sales:
C11: Products | G11: ='3. Inputs'!G83 -> 316199 | H11: ='4. Calculations'!H14 -> 335170.94 | I11: ='4. Calculations'!I14 -> 355281.2 | J11: ='4. Calculations'!J14 -> 429890.25 | K11: ='4. Calculations'!K14 -> 451384.76 | L11: ='4. Calculations'!L14 -> 473954
C12: Services | G12: ='3. Inputs'!G84 -> 78129 | H12: ='4. Calculations'!H26 -> 89848.35 | I12: ='4. Calculations'!I26 -> 100630.15 | J12: ='4. Calculations'!J26 -> 110693.17 | K12: ='4. Calculations'!K26 -> 119548.62 | L12: ='4. Calculations'!L26 -> 125526.05
C13: Total net sales | G13: =SUM(G11:G12) -> 394328 | H13: =SUM(H11:H12) -> 425019.29 | I13: =SUM(I11:I12) -> 455911.35 | J13: =SUM(J11:J12) -> 540583.41 | K13: =SUM(K11:K12) -> 570933.38 | L13: =SUM(L11:L12) -> 599480.05
C14: Growth % | G14: N/A | H14: =H13/G13-1 -> 0.077831881 | I14: =I13/H13-1 -> 0.072683897 | J14: =J13/I13-1 -> 0.18572046 | K14: =K13/J13-1 -> 0.056142984 | L14: =L13/K13-1 -> 0.05
C16: Cost of sales:
C17: Products | G17: ='3. Inputs'!G88 -> 201471 | H17: ='4. Calculations'!H34 -> 213559.26 | I17: ='4. Calculations'!I34 -> 226372.82 | J17: ='4. Calculations'!J34 -> 273911.11 | K17: ='4. Calculations'!K34 -> 287606.66 | L17: ='4. Calculations'!L34 -> 301987
C18: Services | G18: ='3. Inputs'!G89 -> 22075 | H18: ='4. Calculations'!H38 -> 25386.25 | I18: ='4. Calculations'!I38 -> 28432.6 | J18: ='4. Calculations'!J38 -> 31275.86 | K18: ='4. Calculations'!K38 -> 33777.929 | L18: ='4. Calculations'!L38 -> 35466.825
C19: Total cost of sales | G19: =SUM(G17:G18) -> 223546 | H19: =SUM(H17:H18) -> 238945.51 | I19: =SUM(I17:I18) -> 254805.42 | J19: =SUM(J17:J18) -> 305186.97 | K19: =SUM(K17:K18) -> 321384.59 | L19: =SUM(L17:L18) -> 337453.82
C20: Gross margin | G20: =G13-G19 -> 170782 | H20: =H13-H19 -> 186073.78 | I20: =I13-I19 -> 201105.93 | J20: =J13-J19 -> 235396.45 | K20: =K13-K19 -> 249548.79 | L20: =L13-L19 -> 262026.23
C21: Margin % | G21: =G20/G13 -> 0.43309631 | H21: =H20/H13 -> 0.43780079 | I21: =I20/I13 -> 0.44110754 | J21: =J20/J13 -> 0.43544889 | K21: =K20/K13 -> 0.43708916 | L21: =L20/L13 -> 0.43708916
C23: Operating expenses:
C24: Research and development | G24: ='3. Inputs'!G94 -> 26251 | H24: ='4. Calculations'!H47 -> 28294.165 | I24: ='4. Calculations'!I47 -> 30350.695 | J24: ='4. Calculations'!J47 -> 35987.44 | K24: ='4. Calculations'!K47 -> 38007.882 | L24: ='4. Calculations'!L47 -> 39908.276
C25: Selling, general and administrative | G25: ='3. Inputs'!G95 -> 25094 | H25: ='4. Calculations'!H52 -> 26850.58 | I25: ='4. Calculations'!I52 -> 28461.615 | J25: ='4. Calculations'!J52 -> 29884.696 | K25: ='4. Calculations'!K52 -> 30781.236 | L25: ='4. Calculations'!L52 -> 31396.861
C26: Total operating expenses | G26: =SUM(G24:G25) -> 51345 | H26: =SUM(H24:H25) -> 55144.745 | I26: =SUM(I24:I25) -> 58812.31 | J26: =SUM(J24:J25) -> 65872.135 | K26: =SUM(K24:K25) -> 68789.119 | L26: =SUM(L24:L25) -> 71305.137
C28: Operating income | G28: =G20-G26 -> 119437 | H28: =H20-H26 -> 130929.04 | I28: =I20-I26 -> 142293.62 | J28: =J20-J26 -> 169524.31 | K28: =K20-K26 -> 180759.67 | L28: =L20-L26 -> 190721.09
C29: Other income/(expense), net | G29: ='3. Inputs'!G99 -> -228 | H29: ='4. Calculations'!H57 -> -228 | I29: ='4. Calculations'!I57 -> -228 | J29: ='4. Calculations'!J57 -> -228 | K29: ='4. Calculations'!K57 -> -228 | L29: ='4. Calculations'!L57 -> -228
C30: Interest income | G30: ='3. Inputs'!G100 -> 2825 | H30: ='4. Calculations'!H97 -> 2909.26 | I30: ='4. Calculations'!I97 -> 2909.26 | J30: ='4. Calculations'!J97 -> 2909.26 | K30: ='4. Calculations'!K97 -> 2909.26 | L30: ='4. Calculations'!L97 -> 2909.26
C31: (Interest expense) | G31: ='3. Inputs'!G101 -> -2931 | H31: =-'4. Calculations'!H126 -> -3027.3925 | I31: =-'4. Calculations'!I126 -> -3027.3925 | J31: =-'4. Calculations'!J126 -> -3027.3925 | K31: =-'4. Calculations'!K126 -> -3027.3925 | L31: =-'4. Calculations'!L126 -> -3027.3925
C32: Income before provision for income taxes | G32: =SUM(G28:G31) -> 119103 | H32: =SUM(H28:H31) -> 130582.9 | I32: =SUM(I28:I31) -> 141947.49 | J32: =SUM(J28:J31) -> 169178.18 | K32: =SUM(K28:K31) -> 180413.54 | L32: =SUM(L28:L31) -> 190374.96
C33: Provision for income taxes | G33: ='3. Inputs'!G103 -> 19300 | H33: ='4. Calculations'!H61 -> 21160.256 | I33: ='4. Calculations'!I61 -> 23001.827 | J33: ='4. Calculations'!J61 -> 27414.413 | K33: ='4. Calculations'!K61 -> 29235.043 | L33: ='4. Calculations'!L61 -> 30849.237
C34: Net income | G34: =G32-G33 -> 99803 | H34: =H32-H33 -> 109422.65 | I34: =I32-I33 -> 118945.66 | J34: =J32-J33 -> 141763.77 | K34: =K32-K33 -> 151178.5 | L34: =L32-L33 -> 159525.72
C35: Net margin % | G35: =G34/G13 -> 0.25309641 | H35: =H34/H13 -> 0.25745336 | I35: =I34/I13 -> 0.26089648 | J35: =J34/J13 -> 0.26224217 | K35: =K34/K13 -> 0.26479183 | L35: =L34/L13 -> 0.26610681
C37: check: net income = net income on calculations page | H37: =H34='4. Calculations'!H62 -> TRUE | I37: =I34='4. Calculations'!I62 -> TRUE | J37: =J34='4. Calculations'!J62 -> TRUE | K37: =K34='4. Calculations'!K62 -> TRUE | L37: =L34='4. Calculations'!L62 -> TRUE
C39: Earnings per share:
C40: Basic | G40: =G34/G44 -> 6.1546144 | H40: =H34/H44 -> 7.059087 | I40: =I34/I44 -> 8.044499 | J40: =J34/J44 -> 10.074916 | K40: =K34/K44 -> 11.319176 | L40: =L34/L44 -> 12.619744
C41: Diluted | G41: =G34/G45 -> 6.1132002 | H41: =H34/H45 -> 7.009411 | I41: =I34/I45 -> 7.9851711 | J41: =J34/J45 -> 9.9968674 | K41: =K34/K45 -> 11.226833 | L41: =L34/L45 -> 12.511018
C43: Shares used in computing earnings per share:
C44: Basic | G44: ='3. Inputs'!G69 -> 16215.963 | H44: ='4. Calculations'!H72 -> 15500.963 | I44: ='4. Calculations'!I72 -> 14785.963 | J44: ='4. Calculations'!J72 -> 14070.963 | K44: ='4. Calculations'!K72 -> 13355.963 | L44: ='4. Calculations'!L72 -> 12640.963
C45: Diluted | G45: ='3. Inputs'!G70 -> 16325.819 | H45: ='4. Calculations'!H77 -> 15610.819 | I45: ='4. Calculations'!I77 -> 14895.819 | J45: ='4. Calculations'!J77 -> 14180.819 | K45: ='4. Calculations'!K77 -> 13465.819 | L45: ='4. Calculations'!L77 -> 12750.819
C47: EBITDA
C48: Net income | G48: =G34 -> 99803 | H48: =H34 -> 109422.65 | I48: =I34 -> 118945.66 | J48: =J34 -> 141763.77 | K48: =K34 -> 151178.5 | L48: =L34 -> 159525.72
C49: Add back: | D49: Depreciation and amortization | G49: ='3. Inputs'!G106 -> 11104 | H49: =-'4. Calculations'!H102 -> 9623.4 | I49: =-'4. Calculations'!I102 -> 10098.72 | J49: =-'4. Calculations'!J102 -> 10478.976 | K49: =-'4. Calculations'!K102 -> 10783.181 | L49: =-'4. Calculations'!L102 -> 11026.545
D50: Interest expense | G50: =-G31 -> 2931 | H50: =-H31 -> 3027.3925 | I50: =-I31 -> 3027.3925 | J50: =-J31 -> 3027.3925 | K50: =-K31 -> 3027.3925 | L50: =-L31 -> 3027.3925
D51: Income tax expense | G51: =G33 -> 19300 | H51: =H33 -> 21160.256 | I51: =I33 -> 23001.827 | J51: =J33 -> 27414.413 | K51: =K33 -> 29235.043 | L51: =L33 -> 30849.237
...

Sheet 3. Inputs
B2: CICBV Best Practices in Financial Modelling
B3: Apple Inc. Financial Model
B4: =model_date -> October 31, 2022 | G4: =G11 -> Actual | H4: =H11 -> Forecast | I4: =I11 -> Forecast | J4: =J11 -> Forecast | K4: =K11 -> Forecast | L4: =L11 -> Forecast
B5: (In millions, except per share amounts) | D5: Units | G5: =G12 -> 2022 | H5: =H12 -> 2023 | I5: =I12 -> 2024 | J5: =J12 -> 2025 | K5: =K12 -> 2026 | L5: =L12 -> 2027
B8: 1. Modeller's inputs
C10: Model date | D10: date | F10: October 31, 2022
C11: Timelines | D11: text | G11: Actual | H11: Forecast | I11: Forecast | J11: Forecast | K11: Forecast | L11: Forecast
D12: text | G12: 2022 | H12: 2023 | I12: 2024 | J12: 2025 | K12: 2026 | L12: 2027
C14: Discount periods
C15: Selected approach:
C16: Mid-period | F16: =IF(C16=C17,1,2) -> 1 | H16: =CHOOSE($F$16,H17,H18) -> 0.5 | I16: =CHOOSE($F$16,I17,I18) -> 1.5 | J16: =CHOOSE($F$16,J17,J18) -> 2.5 | K16: =CHOOSE($F$16,K17,K18) -> 3.5 | L16: =CHOOSE($F$16,L17,L18) -> 4.5
C17: Mid-period | D17: # | H17: 0.5 | I17: =H17+1 -> 1.5 | J17: =I17+1 -> 2.5 | K17: =J17+1 -> 3.5 | L17: =K17+1 -> 4.5
C18: End period | D18: # | H18: 1 | I18: 2 | J18: 3 | K18: 4 | L18: 5
B20: 2. Valuation inputs
C22: Discount rate | D22: % | F22: 0.1
C23: Terminal growth rate | D23: % | F23: 0.035
C24: Appl share price | D24: $ | F24: 138.38
C25: Maximum cash required on hand | D25: $ | F25: 20000
B27: 3. P&L Inputs
C29: Net sales:
C30: Products - annual growth rate | D30: % | H30: 0.06 | I30: 0.06 | J30: 0.06 | K30: 0.05 | L30: 0.05
C31: Services - annual growth rate | D31: % | H31: 0.15 | I31: 0.12 | J31: 0.1 | K31: 0.08 | L31: 0.05
C33: Product launch growth impact | D33: % | F33: 0.15
C34: New product launch year | D34: year | F34: 2025
C36: Cost of sales:
C37: Products - COGS % | D37: % | G37: =G88/G83 -> 0.6371652 | H37: =G37 -> 0.6371652 | I37: =H37 -> 0.6371652 | J37: =I37 -> 0.6371652 | K37: =J37 -> 0.6371652 | L37: =K37 -> 0.6371652
C38: Services - COGS % | D38: % | G38: =G89/G84 -> 0.28254553 | H38: =G38 -> 0.28254553 | I38: =H38 -> 0.28254553 | J38: =I38 -> 0.28254553 | K38: =J38 -> 0.28254553 | L38: =K38 -> 0.28254553
C40: Operating expenses:
C41: Research and development / Sales | D41: % | G41: =G94/G85 -> 0.066571484 | H41: =G41 -> 0.066571484 | I41: =H41 -> 0.066571484 | J41: =I41 -> 0.066571484 | K41: =J41 -> 0.066571484 | L41: =K41 -> 0.066571484
C42: Selling, general and administrative annual growth | D42: % | H42: 0.07 | I42: 0.06 | J42: 0.05 | K42: 0.03 | L42: 0.02
C44: Other income/(expense) | D44: $ | G44: =G99 -> -228 | H44: =G44 -> -228 | I44: =H44 -> -228 | J44: =I44 -> -228 | K44: =J44 -> -228 | L44: =K44 -> -228
C46: Effective tax rate | D46: % | G46: =G103/G102 -> 0.16204462 | H46: =G46 -> 0.16204462 | I46: =H46 -> 0.16204462 | J46: =I46 -> 0.16204462 | K46: =J46 -> 0.16204462 | L46: =K46 -> 0.16204462
B48: 4. Balance Sheet Inputs
C50: Working capital balances
C51: Days in year for working capital purposes | D51: days | G51: 365 | H51: =G51 -> 365 | I51: =H51 -> 365 | J51: =I51 -> 365 | K51: =J51 -> 365 | L51: =K51 -> 365
C52: AR - DSO | D52: days | G52: =G112/G85*G51 -> 26.087825 | H52: =G52 -> 26.087825 | I52: =H52 -> 26.087825 | J52: =I52 -> 26.087825 | K52: =J52 -> 26.087825 | L52: =K52 -> 26.087825
C53: Inventory Days | D53: days | G53: =G113/G88*G51 -> 8.9605452 | H53: =G53 -> 8.9605452 | I53: =H53 -> 8.9605452 | J53: =I53 -> 8.9605452 | K53: =J53 -> 8.9605452 | L53: =K53 -> 8.9605452
C54: Other Assets - DSO | D54: days | G54: =G116/G85*G51 -> 100.33686 | H54: =G54 -> 100.33686 | I54: =H54 -> 100.33686 | J54: =I54 -> 100.33686 | K54: =J54 -> 100.33686 | L54: =K54 -> 100.33686
C55: AP - DPO | D55: days | G55: =G120/(G90+G96)*G51 -> 85.131834 | H55: =G55 -> 85.131834 | I55: =H55 -> 85.131834 | J55: =I55 -> 85.131834 | K55: =J55 -> 85.131834 | L55: =K55 -> 85.131834
C56: Other liabilities growth | D56: % | H56: 0.025 | I56: =H56 -> 0.025 | J56: =I56 -> 0.025 | K56: =J56 -> 0.025 | L56: =K56 -> 0.025
...

Sheet 4. Calculations
B2: CICBV Best Practices in Financial Modelling
B3: Apple Inc. Financial Model
B4: =model_date -> October 31, 2022 | G4: ='3. Inputs'!G4 -> Actual | H4: ='3. Inputs'!H4 -> Forecast | I4: ='3. Inputs'!I4 -> Forecast | J4: ='3. Inputs'!J4 -> Forecast | K4: ='3. Inputs'!K4 -> Forecast | L4: ='3. Inputs'!L4 -> Forecast
B5: (In millions, except per share amounts) | G5: ='3. Inputs'!G5 -> 2022 | H5: ='3. Inputs'!H5 -> 2023 | I5: ='3. Inputs'!I5 -> 2024 | J5: ='3. Inputs'!J5 -> 2025 | K5: ='3. Inputs'!K5 -> 2026 | L5: ='3. Inputs'!L5 -> 2027
B8: 1. Income Statement Calculations
C10: Net sales:
C11: Products
D12: Opening balance | H12: ='2. Financial Stmts'!G11 -> 316199 | I12: =H14 -> 335170.94 | J12: =I14 -> 355281.2 | K12: =J14 -> 429890.25 | L12: =K14 -> 451384.76
D13: annual growth | H13: =H19 -> 0.06 | I13: =I19 -> 0.06 | J13: =J19 -> 0.21 | K13: =K19 -> 0.05 | L13: =L19 -> 0.05
D14: Ending balance | H14: =H12*(1+H13) -> 335170.94 | I14: =I12*(1+I13) -> 355281.2 | J14: =J12*(1+J13) -> 429890.25 | K14: =K12*(1+K13) -> 451384.76 | L14: =L12*(1+L13) -> 473954
C16: Product growth rate
D17: base growth rate | H17: ='3. Inputs'!H30 -> 0.06 | I17: ='3. Inputs'!I30 -> 0.06 | J17: ='3. Inputs'!J30 -> 0.06 | K17: ='3. Inputs'!K30 -> 0.05 | L17: ='3. Inputs'!L30 -> 0.05
D18: product launch impact | H18: ='3. Inputs'!$F$33*'4. Calculations'!H21 -> 0 | I18: ='3. Inputs'!$F$33*'4. Calculations'!I21 -> 0 | J18: ='3. Inputs'!$F$33*'4. Calculations'!J21 -> 0.15 | K18: ='3. Inputs'!$F$33*'4. Calculations'!K21 -> 0 | L18: ='3. Inputs'!$F$33*'4. Calculations'!L21 -> 0
D19: total growth rate | H19: =SUM(H17:H18) -> 0.06 | I19: =SUM(I17:I18) -> 0.06 | J19: =SUM(J17:J18) -> 0.21 | K19: =SUM(K17:K18) -> 0.05 | L19: =SUM(L17:L18) -> 0.05
D21: product launch flag | H21: =IF('3. Inputs'!$F$34='4. Calculations'!H5,1,0) -> 0 | I21: =IF('3. Inputs'!$F$34='4. Calculations'!I5,1,0) -> 0 | J21: =IF('3. Inputs'!$F$34='4. Calculations'!J5,1,0) -> 1 | K21: =IF('3. Inputs'!$F$34='4. Calculations'!K5,1,0) -> 0 | L21: =IF('3. Inputs'!$F$34='4. Calculations'!L5,1,0) -> 0
C23: Services
D24: Opening balance | H24: ='2. Financial Stmts'!G12 -> 78129 | I24: =H26 -> 89848.35 | J24: =I26 -> 100630.15 | K24: =J26 -> 110693.17 | L24: =K26 -> 119548.62
D25: annual growth | H25: ='3. Inputs'!H31 -> 0.15 | I25: ='3. Inputs'!I31 -> 0.12 | J25: ='3. Inputs'!J31 -> 0.1 | K25: ='3. Inputs'!K31 -> 0.08 | L25: ='3. Inputs'!L31 -> 0.05
D26: Ending balance | H26: =H24*(1+H25) -> 89848.35 | I26: =I24*(1+I25) -> 100630.15 | J26: =J24*(1+J25) -> 110693.17 | K26: =K24*(1+K25) -> 119548.62 | L26: =L24*(1+L25) -> 125526.05
C28: Total revenues | H28: =H14+H26 -> 425019.29 | I28: =I14+I26 -> 455911.35 | J28: =J14+J26 -> 540583.41 | K28: =K14+K26 -> 570933.38 | L28: =L14+L26 -> 599480.05
C30: Cost of sales:
C31: Products
D32: Revenues | H32: =H14 -> 335170.94 | I32: =I14 -> 355281.2 | J32: =J14 -> 429890.25 | K32: =K14 -> 451384.76 | L32: =L14 -> 473954
D33: COGS% | H33: ='3. Inputs'!H37 -> 0.6371652 | I33: ='3. Inputs'!I37 -> 0.6371652 | J33: ='3. Inputs'!J37 -> 0.6371652 | K33: ='3. Inputs'!K37 -> 0.6371652 | L33: ='3. Inputs'!L37 -> 0.6371652
D34: Cost of Sales | H34: =H32*H33 -> 213559.26 | I34: =I32*I33 -> 226372.82 | J34: =J32*J33 -> 273911.11 | K34: =K32*K33 -> 287606.66 | L34: =L32*L33 -> 301987
C35: Services
D36: Revenues | H36: =H26 -> 89848.35 | I36: =I26 -> 100630.15 | J36: =J26 -> 110693.17 | K36: =K26 -> 119548.62 | L36: =L26 -> 125526.05
D37: COGS% | H37: ='3. Inputs'!G38 -> 0.28254553 | I37: ='3. Inputs'!H38 -> 0.28254553 | J37: ='3. Inputs'!I38 -> 0.28254553 | K37: ='3. Inputs'!J38 -> 0.28254553 | L37: ='3. Inputs'!K38 -> 0.28254553
D38: Cost of Sales | H38: =H36*H37 -> 25386.25 | I38: =I36*I37 -> 28432.6 | J38: =J36*J37 -> 31275.86 | K38: =K36*K37 -> 33777.929 | L38: =L36*L37 -> 35466.825
C40: Total cost of sales | H40: =H34+H38 -> 238945.51 | I40: =I34+I38 -> 254805.42 | J40: =J34+J38 -> 305186.97 | K40: =K34+K38 -> 321384.59 | L40: =L34+L38 -> 337453.82
C41: Gross margin | H41: =H28-H40 -> 186073.78 | I41: =I28-I40 -> 201105.93 | J41: =J28-J40 -> 235396.45 | K41: =K28-K40 -> 249548.79 | L41: =L28-L40 -> 262026.23
C43: Operating expenses:
C44: Research and development
D45: Revenues | H45: =H28 -> 425019.29 | I45: =I28 -> 455911.35 | J45: =J28 -> 540583.41 | K45: =K28 -> 570933.38 | L45: =L28 -> 599480.05
D46: R&D / Sales | H46: ='3. Inputs'!H41 -> 0.066571484 | I46: ='3. Inputs'!I41 -> 0.066571484 | J46: ='3. Inputs'!J41 -> 0.066571484 | K46: ='3. Inputs'!K41 -> 0.066571484 | L46: ='3. Inputs'!L41 -> 0.066571484
D47: Total R&D | H47: =H45*H46 -> 28294.165 | I47: =I45*I46 -> 30350.695 | J47: =J45*J46 -> 35987.44 | K47: =K45*K46 -> 38007.882 | L47: =L45*L46 -> 39908.276
C49: Selling, general and administrative
D50: Opening balance | H50: ='2. Financial Stmts'!G25 -> 25094 | I50: =H52 -> 26850.58 | J50: =I52 -> 28461.615 | K50: =J52 -> 29884.696 | L50: =K52 -> 30781.236
D51: annual growth | H51: ='3. Inputs'!H42 -> 0.07 | I51: ='3. Inputs'!I42 -> 0.06 | J51: ='3. Inputs'!J42 -> 0.05 | K51: ='3. Inputs'!K42 -> 0.03 | L51: ='3. Inputs'!L42 -> 0.02
D52: Total SG&A | H52: =H50*(1+H51) -> 26850.58 | I52: =I50*(1+I51) -> 28461.615 | J52: =J50*(1+J51) -> 29884.696 | K52: =K50*(1+K51) -> 30781.236 | L52: =L50*(1+L51) -> 31396.861
...

Sheet xx. User Guide
B2: CICBV Best Practices in Financial Modelling
B3: Apple Inc. Financial Model
B4: =model_date -> October 31, 2022
B6: Notes: | C6: 1. | D6: This model has been prepared to illustrate the development of a 3 statement financial model along with a discounted cash flow calculation of the equity value per share of Apple Inc.
C8: 2. | D8: Please note that although this model follows the CICBV calculation of equity value, certain simplifying assumptions have been made and it is not intended to be a formal calculation of the Fair Market Value of the shares of Apple Inc.
C10: 3. | D10: The source data for this model is drawn from the Apple Inc. form 10-K filed on October 28, 2022 and can be downloaded from the following location: https://investor.apple.com/sec-filings/default.aspx
C12: 4. | D12: All inputs are located on the sheet "3. Inputs" and all input cells font colour is BLUE.
C14: 5. | D14: There are no macros in this model.
B17: * End *
